BEGIN:VCALENDAR
VERSION:2.0
PRODID:-//ChamberMaster//Event Calendar 2.0//EN
METHOD:PUBLISH
X-PUBLISHED-TTL:P3D
REFRESH-INTERVAL:P3D
CALSCALE:GREGORIAN
BEGIN:VEVENT
DTSTART:20220420T180000Z
DTEND:20220420T200000Z
X-MICROSOFT-CDO-ALLDAYEVENT:FALSE
SUMMARY:SoupPort
DESCRIPTION:Helpline's SoupPort Luncheon & Raffle. Each $25 ticket ($30 at the door) rewards you with a one-of-a-kind bowl\, yours to keep\, filled with a savory soup prepared by Walla Walla Community College Culinary School\, accompanied by scrumptious bread from some of the Valley's very best bakeries. Dine-in and take-out available.\n\nTickets are available for the event at Helpline\, 412 W. Poplar\, Earthlight Books or the Pottery Painting Studio. You may also purchase $10 raffle tickets for the opportunity to win fantastic prizes.  Call Helpline at 529.3377 for additional information or email liz@helplineww.org.
X-ALT-DESC;FMTTYPE=text/html:Helpline&#39\;s SoupPort Luncheon &amp\; Raffle. Each $25 ticket ($30 at the door) rewards you with a one-of-a-kind bowl\, yours to keep\, filled with a savory soup prepared by Walla Walla Community College Culinary School\, accompanied by scrumptious bread from some of the Valley&#39\;s very best bakeries. Dine-in and take-out available.<br />\nTickets are available for the event at Helpline\, 412 W. Poplar\, Earthlight Books or the Pottery Painting Studio. You may also purchase $10 raffle tickets for the opportunity to win fantastic prizes.&nbsp\; Call Helpline at 529.3377 for additional information or email liz@helplineww.org.
LOCATION:St. Patrick Parish\, Blanchet Hall\, 11 a.m.-1:00 p.m.\, 6th and Poplar
UID:e.65.17421
SEQUENCE:3
DTSTAMP:20260421T033536Z
URL:http://wallawallavalleychamber.chambermaster.com/events/details/soupport-17421
END:VEVENT

END:VCALENDAR
